BEGIN:VCALENDAR
VERSION:2.0
PRODID:-//North Shore Aikido - ECPv6.8.3//NONSGML v1.0//EN
CALSCALE:GREGORIAN
METHOD:PUBLISH
X-WR-CALNAME:North Shore Aikido
X-ORIGINAL-URL:https://nsaikido.com
X-WR-CALDESC:Events for North Shore Aikido
REFRESH-INTERVAL;VALUE=DURATION:PT1H
X-Robots-Tag:noindex
X-PUBLISHED-TTL:PT1H
BEGIN:VTIMEZONE
TZID:America/Chicago
BEGIN:DAYLIGHT
TZOFFSETFROM:-0600
TZOFFSETTO:-0500
TZNAME:CDT
DTSTART:20250309T080000
END:DAYLIGHT
BEGIN:STANDARD
TZOFFSETFROM:-0500
TZOFFSETTO:-0600
TZNAME:CST
DTSTART:20251102T070000
END:STANDARD
END:VTIMEZONE
BEGIN:VEVENT
DTSTART;TZID=America/Chicago:20250506T110000
DTEND;TZID=America/Chicago:20250506T120000
DTSTAMP:20260419T140255
CREATED:20250212T212522Z
LAST-MODIFIED:20250408T144141Z
UID:744-1746529200-1746532800@nsaikido.com
SUMMARY:Women's Self Defense
DESCRIPTION:Guest Instructor | Carlos Frick Sensei\n\n\n \n\n\n\nRegister now for an early bird discount! \n\n\n\nAikido is the martial art that creates harmony out of conflict. Aikido teaches people to accept negative energy or aggression\, then to redirect the energy into a path that becomes harmless to either  the attacker and the defender. Physical and mental training are both  involved in order to learn alternative ways for conflict resolution. \n\n\n\nDuring Aikido classes\, students take turns being attacker and defender. We teach physical responses to grabs\, punches\, and kicks. Students should wear soft workout clothes without buttons\, buckles\, zippers\, etc. Yoga clothes will be fine. We will practice barefoot on soft mats. Physical strength is not important for Aikido: if you can carry one bag of groceries up one flight of stairs\, you are strong enough! \n\n\n\nFurthermore\, Aikido teaches the mental skills of confidence\, preparation\, and cooperation. Those mental skills are particularly useful for daily life\, in work-life balance\, and in personal maturity. \n\n\n\nEveryone goes home safe and happy from Aikido classes! \n\n\n\nErickson Aikido Biography \n\n\n\nLaurie Erickson began her Aikido training shortly after college\, because her boyfriend was doing Aikido and it sounded interesting. After she earned her shodan (first black belt)\, s!he ditched the boyfriend and kept the Aikido! She has trained and taught Aikido in Michigan\, Wisconsin\, North Carolina\, and Illinois since 1979. She is now a rokkudan (6th degree black belt).  One of the best things about Aikido as a martial art is that age does not reduce one’s skills–the most senior Aikido practitioners are still superior. \n\n\n\nRefunds available upon request – a five dollar ($5) administration fee. \n\n\n\nA minimum of four students must register for training to run. If minimum is not full refund will be given.
URL:https://nsaikido.com/event/womens-self-defense-3/
LOCATION:North Shore Aikido\, 3390 Commercial Ave.\, Northbrook\, IL\, 60062\, United States
ATTACH;FMTTYPE=image/png:https://nsaikido.com/app/uploads/2025/02/NSA-Womens-Self-Defense.png
ORGANIZER;CN="Awaken Innate Healing":MAILTO:awaken.innate.healing@gmail.com
END:VEVENT
BEGIN:VEVENT
DTSTART;TZID=America/Chicago:20250513T110000
DTEND;TZID=America/Chicago:20250513T120000
DTSTAMP:20260419T140255
CREATED:20250212T212550Z
LAST-MODIFIED:20250408T144125Z
UID:746-1747134000-1747137600@nsaikido.com
SUMMARY:Women's Self Defense
DESCRIPTION:Guest Instructor | Carlos Frick Sensei\n\n\n \n\n\n\nRegister now for an early bird discount! \n\n\n\nAikido is the martial art that creates harmony out of conflict. Aikido teaches people to accept negative energy or aggression\, then to redirect the energy into a path that becomes harmless to either  the attacker and the defender. Physical and mental training are both  involved in order to learn alternative ways for conflict resolution. \n\n\n\nDuring Aikido classes\, students take turns being attacker and defender. We teach physical responses to grabs\, punches\, and kicks. Students should wear soft workout clothes without buttons\, buckles\, zippers\, etc. Yoga clothes will be fine. We will practice barefoot on soft mats. Physical strength is not important for Aikido: if you can carry one bag of groceries up one flight of stairs\, you are strong enough! \n\n\n\nFurthermore\, Aikido teaches the mental skills of confidence\, preparation\, and cooperation. Those mental skills are particularly useful for daily life\, in work-life balance\, and in personal maturity. \n\n\n\nEveryone goes home safe and happy from Aikido classes! \n\n\n\nErickson Aikido Biography \n\n\n\nLaurie Erickson began her Aikido training shortly after college\, because her boyfriend was doing Aikido and it sounded interesting. After she earned her shodan (first black belt)\, s!he ditched the boyfriend and kept the Aikido! She has trained and taught Aikido in Michigan\, Wisconsin\, North Carolina\, and Illinois since 1979. She is now a rokkudan (6th degree black belt).  One of the best things about Aikido as a martial art is that age does not reduce one’s skills–the most senior Aikido practitioners are still superior. \n\n\n\nRefunds available upon request – a five dollar ($5) administration fee. \n\n\n\nA minimum of four students must register for training to run. If minimum is not full refund will be given.
URL:https://nsaikido.com/event/womens-self-defense-4/
LOCATION:North Shore Aikido\, 3390 Commercial Ave.\, Northbrook\, IL\, 60062\, United States
ATTACH;FMTTYPE=image/png:https://nsaikido.com/app/uploads/2025/02/NSA-Womens-Self-Defense.png
ORGANIZER;CN="Awaken Innate Healing":MAILTO:awaken.innate.healing@gmail.com
END:VEVENT
BEGIN:VEVENT
DTSTART;TZID=America/Chicago:20250516T180000
DTEND;TZID=America/Chicago:20250518T130000
DTSTAMP:20260419T140255
CREATED:20250408T143523Z
LAST-MODIFIED:20250408T143832Z
UID:818-1747418400-1747573200@nsaikido.com
SUMMARY:Spring Seminar | Terry Leonard Sensei\, 6th Dan
DESCRIPTION:Please join us for a Spring Seminar featuring Terry Leonard Sensei\, 6th Dan\, founder of Aikido of Harvard. \n\n\n\nSeminar Schedule:Friday: 6 PM – 8 PMSaturday: 11 AM – 1 PM\, 3:30 PM – 5:30 PM6 PM After Practice PartySunday: 11 AM – 1 PM \n\n\n\nEntire Seminar: $125Friday: $75Saturday: $100Sunday: $75 \n\n\n\nCash or CheckZelle: torashinkan@gmail.com (Joshua Weiser)Venmo: https://venmo.com/u/North-Shore-Aikido
URL:https://nsaikido.com/event/spring-seminar-2025-terry-leonard-sensei-6th-dan/
END:VEVENT
BEGIN:VEVENT
DTSTART;TZID=America/Chicago:20250523T190000
DTEND;TZID=America/Chicago:20250523T210000
DTSTAMP:20260419T140255
CREATED:20250105T202027Z
LAST-MODIFIED:20250408T144104Z
UID:477-1748026800-1748034000@nsaikido.com
SUMMARY:Sonic Sanctuary: Gong Wash Sound Therapy
DESCRIPTION:Guest Instructor | Carlos Frick Sensei\n\n\n\n\nDetails Step into a realm of deep relaxation and healing at Sonic Sanctuary: Gong Wash Sound Healing. This immersive sound healing journey harnesses the powerful vibrations of gongs\, complemented by singing bowls\, chimes\, flutes\, handpan and other therapeutic instruments\, to harmonize your mind\, body\, and spirit. \n\n\n\nLet the soothing resonance wash over you\, helping to release tension\, clear energetic blockages\, and balance your nervous system. Whether you’re seeking a moment of peace\, an energetic reset\, or simply an opportunity to explore the transformative power of sound\, this event is for you. \n\n\n\nThese harmonious vibrations penetrate deeply into your energy field\, promoting profound relaxation and helping to: \n\n\n\n– Release physical tension \n\n\n\n– Clear energetic blockages \n\n\n\n– Reset and balance the nervous system \n\n\n\n– Cultivate mental clarity and emotional peace \n\n\n\n The powerful Gong serves as a facilitator to break up emotional\, physiological and spiritual blockages. The “Sun Gong” specifically tuned to the vibrational frequency of the Sun and is associated with the OM tone. It has been revered by Hindus since ancient times that the sun is a manifestation of the OM which gives life and vibrates its healing and life giving frequency. Paired with the “Atlantis Gong” they both carry deep full bodied sounds that can conjure up emotional depth\, creating sensations with deep body effects followed by sweet harmonic overtones that echo through the nervous system like waves. This ringing feels like a gentle vibration washing through your body. The Atlantis Gong vibrates healing frequency that stimulates: emotional balance\, clear energetic blockages and heightens intuitive connection. Be present in this tantalizing sound bath\, wash away negative blockages\, transform through the intensity and be reborn through the journey. \n\n\n\nLead Facilitator: \n\n\n\n Simon Jay Cervania\, founder of the Harmonic Waves Healing Accredited Certification Program\, brings over 15 years of expertise in sound healing\, brainwave entrainment\, biofield therapy\, and energetic trauma release. As a visionary artist\, musician\, and Reiki Master Teacher\, Jay is dedicated to holistic health and healing through sound and vibration. \n\n\n\n What to Bring: \n\n\n\nPlease bring a yoga mat\, blanket\, pillow\, eye mask and any props to make yourself comfortable. Feel free to bring water and wear cozy\, loose-fitting clothing. \n\n\n\nSpaces are limited to maintain an intimate and sacred atmosphere. Reserve your space now and join us for this unforgettable healing experience. 
URL:https://nsaikido.com/event/sonic-sanctuary-gong-wash-sound-therapy-4/
ATTACH;FMTTYPE=image/jpeg:https://nsaikido.com/app/uploads/2024/12/Sonic-Sanctuary-1.jpg
ORGANIZER;CN="Simon 'Jay' Cervania":MAILTO:harmonicwaveshealing@gmail.com
END:VEVENT
BEGIN:VEVENT
DTSTART;TZID=America/Chicago:20250531T100000
DTEND;TZID=America/Chicago:20250531T120000
DTSTAMP:20260419T140255
CREATED:20250408T143741Z
LAST-MODIFIED:20250408T143742Z
UID:820-1748685600-1748692800@nsaikido.com
SUMMARY:Guest Instructor | Nicole Mooney Sensei
DESCRIPTION:Please join us as we welcome Nicole Mooney Sensei as our guest instructor. \n\n\n\nDate: Saturday\, may 31stTime: 10:00 am – 12:00 pm \n\n\n\nNorth Shore Aikido3390 Commercial Ave.Northbrook\, IL 60062 \n\n\n\nNicole Mooney SenseiChief Instructor\, Dojo-Cho ​​Milwaukee Shobukan \n\n\n\nNicole Mooney Sensei began her Aikido training in 2000 while attending the University of Wisconsin-La Crosse. Mooney Sensei serves as the Dojo Cho of Milwaukee Shobukan\, which opened its doors in 2017. She enjoys the family atmosphere of the dojo\, and connecting Aikido to everyday life. Mooney Sensei holds a Master’s degree in Education​ and was promoted to Yondan at the beginning of 2023. She is currently exploring how to train Aikido practitioners to be Aikido instructors. \n\n\n\nNo donation is required\, ​and none are refused.
URL:https://nsaikido.com/event/guest-instructor-nicole-mooney-sensei/
END:VEVENT
END:VCALENDAR