BEGIN:VCALENDAR
VERSION:2.0
PRODID:-//North Shore Aikido - ECPv6.8.3//NONSGML v1.0//EN
CALSCALE:GREGORIAN
METHOD:PUBLISH
X-WR-CALNAME:North Shore Aikido
X-ORIGINAL-URL:https://nsaikido.com
X-WR-CALDESC:Events for North Shore Aikido
REFRESH-INTERVAL;VALUE=DURATION:PT1H
X-Robots-Tag:noindex
X-PUBLISHED-TTL:PT1H
BEGIN:VTIMEZONE
TZID:America/Chicago
BEGIN:DAYLIGHT
TZOFFSETFROM:-0600
TZOFFSETTO:-0500
TZNAME:CDT
DTSTART:20250309T080000
END:DAYLIGHT
BEGIN:STANDARD
TZOFFSETFROM:-0500
TZOFFSETTO:-0600
TZNAME:CST
DTSTART:20251102T070000
END:STANDARD
END:VTIMEZONE
BEGIN:VEVENT
DTSTART;TZID=America/Chicago:20250112T170000
DTEND;TZID=America/Chicago:20250112T180000
DTSTAMP:20260419T171732
CREATED:20250105T212444Z
LAST-MODIFIED:20250105T212444Z
UID:509-1736701200-1736704800@nsaikido.com
SUMMARY:Alchemy Healing with Kai Cox
DESCRIPTION:Reiki Level I Shoden Class\n\n\n\n\nJoin Kai Cox on Sunday\, 1/12/2025 to relax and recharge with Alchemy Healing. This in-person sound healing experience will take place at The Space by Awaken Innate Healing. \n\n\n\nAlchemy Healing with Kai Cox consist of: \n\n\n\n•Sound Healing \n\n\n\n•Energy Clearing \n\n\n\n•Ground Meditation \n\n\n\n•Intuitive Messages \n\n\n\nSome of the most highly reported benefits of sound healing include: \n\n\n\n\nReduced stress\n\n\n\nFewer mood swings\n\n\n\nLower blood pressure\n\n\n\nLower cholesterol levels\n\n\n\nBetter pain management\n\n\n\nImproved sleep\n\n\n\n\nWhat to bring: we will be lying on padded mats\, but I would still recommend one blanket to lay on and one to cover you in case you get cold since that can be a natural response to sound healing. Also\, bring a pillow or an eye pillow to be as comfortable as possible. Please wear comfy clothes. \n\n\n\nManual payment via Venmo is gladly welcomed. Please select the Manual Payment at checkout and then please send payment to @kaileen-cox \n\n\n\nBy purchasing a ticket\, you acknowledge you have read the disclaimer page and agree to its terms. \n\n\n\nFour people must sign up by Saturday\, 1/11/2025 for the event to run. If that number is not met\, then a credit will be given to those who have registered for a future event of equal price with Awaken Innate Healing. \n\n\n\nThank you for signing up for this event and becoming more spacious to heal.
URL:https://nsaikido.com/event/alchemy-healing-with-kai-cox/
LOCATION:Awaken Innate Healing\, 3390 Commercial Ave.\, Northbrook\, IL\, 60062\, United States
ATTACH;FMTTYPE=image/png:https://nsaikido.com/app/uploads/2025/01/alchemy.png
ORGANIZER;CN="Awaken Innate Healing":MAILTO:awaken.innate.healing@gmail.com
END:VEVENT
BEGIN:VEVENT
DTSTART;TZID=America/Chicago:20250105T190000
DTEND;TZID=America/Chicago:20250105T210000
DTSTAMP:20260419T171732
CREATED:20250105T201905Z
LAST-MODIFIED:20250207T135707Z
UID:472-1736103600-1736110800@nsaikido.com
SUMMARY:Sonic Sanctuary: Gong Wash Sound Therapy
DESCRIPTION:Reiki Level I Shoden Class\n\n\n\n\nDetails Step into a realm of deep relaxation and healing at Sonic Sanctuary: Gong Wash Sound Healing. This immersive sound healing journey harnesses the powerful vibrations of gongs\, complemented by singing bowls\, chimes\, flutes\, handpan and other therapeutic instruments\, to harmonize your mind\, body\, and spirit. \n\n\n\nLet the soothing resonance wash over you\, helping to release tension\, clear energetic blockages\, and balance your nervous system. Whether you’re seeking a moment of peace\, an energetic reset\, or simply an opportunity to explore the transformative power of sound\, this event is for you. \n\n\n\nThese harmonious vibrations penetrate deeply into your energy field\, promoting profound relaxation and helping to: \n\n\n\n– Release physical tension \n\n\n\n– Clear energetic blockages \n\n\n\n– Reset and balance the nervous system \n\n\n\n– Cultivate mental clarity and emotional peace \n\n\n\n The powerful Gong serves as a facilitator to break up emotional\, physiological and spiritual blockages. The “Sun Gong” specifically tuned to the vibrational frequency of the Sun and is associated with the OM tone. It has been revered by Hindus since ancient times that the sun is a manifestation of the OM which gives life and vibrates its healing and life giving frequency. Paired with the “Atlantis Gong” they both carry deep full bodied sounds that can conjure up emotional depth\, creating sensations with deep body effects followed by sweet harmonic overtones that echo through the nervous system like waves. This ringing feels like a gentle vibration washing through your body. The Atlantis Gong vibrates healing frequency that stimulates: emotional balance\, clear energetic blockages and heightens intuitive connection. Be present in this tantalizing sound bath\, wash away negative blockages\, transform through the intensity and be reborn through the journey. \n\n\n\nLead Facilitator: \n\n\n\n Simon Jay Cervania\, founder of the Harmonic Waves Healing Accredited Certification Program\, brings over 15 years of expertise in sound healing\, brainwave entrainment\, biofield therapy\, and energetic trauma release. As a visionary artist\, musician\, and Reiki Master Teacher\, Jay is dedicated to holistic health and healing through sound and vibration. \n\n\n\n What to Bring: \n\n\n\nPlease bring a yoga mat\, blanket\, pillow\, eye mask and any props to make yourself comfortable. Feel free to bring water and wear cozy\, loose-fitting clothing. \n\n\n\nSpaces are limited to maintain an intimate and sacred atmosphere. Reserve your space now and join us for this unforgettable healing experience. 
URL:https://nsaikido.com/event/sonic-sanctuary-gong-wash-sound-therapy-3/
ATTACH;FMTTYPE=image/jpeg:https://nsaikido.com/app/uploads/2024/12/Sonic-Sanctuary-1.jpg
ORGANIZER;CN="Simon 'Jay' Cervania":MAILTO:harmonicwaveshealing@gmail.com
END:VEVENT
END:VCALENDAR