BEGIN:VCALENDAR
VERSION:2.0
PRODID:-//North Shore Aikido - ECPv6.8.3//NONSGML v1.0//EN
CALSCALE:GREGORIAN
METHOD:PUBLISH
X-ORIGINAL-URL:https://nsaikido.com
X-WR-CALDESC:Events for North Shore Aikido
REFRESH-INTERVAL;VALUE=DURATION:PT1H
X-Robots-Tag:noindex
X-PUBLISHED-TTL:PT1H
BEGIN:VTIMEZONE
TZID:America/Chicago
BEGIN:DAYLIGHT
TZOFFSETFROM:-0600
TZOFFSETTO:-0500
TZNAME:CDT
DTSTART:20250309T080000
END:DAYLIGHT
BEGIN:STANDARD
TZOFFSETFROM:-0500
TZOFFSETTO:-0600
TZNAME:CST
DTSTART:20251102T070000
END:STANDARD
BEGIN:DAYLIGHT
TZOFFSETFROM:-0600
TZOFFSETTO:-0500
TZNAME:CDT
DTSTART:20260308T080000
END:DAYLIGHT
BEGIN:STANDARD
TZOFFSETFROM:-0500
TZOFFSETTO:-0600
TZNAME:CST
DTSTART:20261101T070000
END:STANDARD
END:VTIMEZONE
BEGIN:VEVENT
DTSTART;TZID=America/Chicago:20250711T190000
DTEND;TZID=America/Chicago:20250711T210000
DTSTAMP:20260419T170906
CREATED:20250105T202334Z
LAST-MODIFIED:20250408T144044Z
UID:479-1752260400-1752267600@nsaikido.com
SUMMARY:Sonic Sanctuary: Gong Wash Sound Therapy
DESCRIPTION:Guest Instructor | Carlos Frick Sensei\n\n\n\n\nDetails Step into a realm of deep relaxation and healing at Sonic Sanctuary: Gong Wash Sound Healing. This immersive sound healing journey harnesses the powerful vibrations of gongs\, complemented by singing bowls\, chimes\, flutes\, handpan and other therapeutic instruments\, to harmonize your mind\, body\, and spirit. \n\n\n\nLet the soothing resonance wash over you\, helping to release tension\, clear energetic blockages\, and balance your nervous system. Whether you’re seeking a moment of peace\, an energetic reset\, or simply an opportunity to explore the transformative power of sound\, this event is for you. \n\n\n\nThese harmonious vibrations penetrate deeply into your energy field\, promoting profound relaxation and helping to: \n\n\n\n– Release physical tension \n\n\n\n– Clear energetic blockages \n\n\n\n– Reset and balance the nervous system \n\n\n\n– Cultivate mental clarity and emotional peace \n\n\n\n The powerful Gong serves as a facilitator to break up emotional\, physiological and spiritual blockages. The “Sun Gong” specifically tuned to the vibrational frequency of the Sun and is associated with the OM tone. It has been revered by Hindus since ancient times that the sun is a manifestation of the OM which gives life and vibrates its healing and life giving frequency. Paired with the “Atlantis Gong” they both carry deep full bodied sounds that can conjure up emotional depth\, creating sensations with deep body effects followed by sweet harmonic overtones that echo through the nervous system like waves. This ringing feels like a gentle vibration washing through your body. The Atlantis Gong vibrates healing frequency that stimulates: emotional balance\, clear energetic blockages and heightens intuitive connection. Be present in this tantalizing sound bath\, wash away negative blockages\, transform through the intensity and be reborn through the journey. \n\n\n\nLead Facilitator: \n\n\n\n Simon Jay Cervania\, founder of the Harmonic Waves Healing Accredited Certification Program\, brings over 15 years of expertise in sound healing\, brainwave entrainment\, biofield therapy\, and energetic trauma release. As a visionary artist\, musician\, and Reiki Master Teacher\, Jay is dedicated to holistic health and healing through sound and vibration. \n\n\n\n What to Bring: \n\n\n\nPlease bring a yoga mat\, blanket\, pillow\, eye mask and any props to make yourself comfortable. Feel free to bring water and wear cozy\, loose-fitting clothing. \n\n\n\nSpaces are limited to maintain an intimate and sacred atmosphere. Reserve your space now and join us for this unforgettable healing experience. 
URL:https://nsaikido.com/event/sonic-sanctuary-gong-wash-sound-therapy-5/
ATTACH;FMTTYPE=image/jpeg:https://nsaikido.com/app/uploads/2024/12/Sonic-Sanctuary-1.jpg
ORGANIZER;CN="Simon 'Jay' Cervania":MAILTO:harmonicwaveshealing@gmail.com
END:VEVENT
BEGIN:VEVENT
DTSTART;TZID=America/Chicago:20250822T190000
DTEND;TZID=America/Chicago:20250822T210000
DTSTAMP:20260419T170906
CREATED:20250408T142056Z
LAST-MODIFIED:20250408T144021Z
UID:808-1755889200-1755896400@nsaikido.com
SUMMARY:Sonic Sanctuary: Gong Wash Sound Therapy
DESCRIPTION:Guest Instructor | Carlos Frick Sensei\n\n\n\n\nDetails Step into a realm of deep relaxation and healing at Sonic Sanctuary: Gong Wash Sound Healing. This immersive sound healing journey harnesses the powerful vibrations of gongs\, complemented by singing bowls\, chimes\, flutes\, handpan and other therapeutic instruments\, to harmonize your mind\, body\, and spirit. \n\n\n\nLet the soothing resonance wash over you\, helping to release tension\, clear energetic blockages\, and balance your nervous system. Whether you’re seeking a moment of peace\, an energetic reset\, or simply an opportunity to explore the transformative power of sound\, this event is for you. \n\n\n\nThese harmonious vibrations penetrate deeply into your energy field\, promoting profound relaxation and helping to: \n\n\n\n– Release physical tension \n\n\n\n– Clear energetic blockages \n\n\n\n– Reset and balance the nervous system \n\n\n\n– Cultivate mental clarity and emotional peace \n\n\n\n The powerful Gong serves as a facilitator to break up emotional\, physiological and spiritual blockages. The “Sun Gong” specifically tuned to the vibrational frequency of the Sun and is associated with the OM tone. It has been revered by Hindus since ancient times that the sun is a manifestation of the OM which gives life and vibrates its healing and life giving frequency. Paired with the “Atlantis Gong” they both carry deep full bodied sounds that can conjure up emotional depth\, creating sensations with deep body effects followed by sweet harmonic overtones that echo through the nervous system like waves. This ringing feels like a gentle vibration washing through your body. The Atlantis Gong vibrates healing frequency that stimulates: emotional balance\, clear energetic blockages and heightens intuitive connection. Be present in this tantalizing sound bath\, wash away negative blockages\, transform through the intensity and be reborn through the journey. \n\n\n\nLead Facilitator: \n\n\n\n Simon Jay Cervania\, founder of the Harmonic Waves Healing Accredited Certification Program\, brings over 15 years of expertise in sound healing\, brainwave entrainment\, biofield therapy\, and energetic trauma release. As a visionary artist\, musician\, and Reiki Master Teacher\, Jay is dedicated to holistic health and healing through sound and vibration. \n\n\n\n What to Bring: \n\n\n\nPlease bring a yoga mat\, blanket\, pillow\, eye mask and any props to make yourself comfortable. Feel free to bring water and wear cozy\, loose-fitting clothing. \n\n\n\nSpaces are limited to maintain an intimate and sacred atmosphere. Reserve your space now and join us for this unforgettable healing experience. 
URL:https://nsaikido.com/event/sonic-sanctuary-gong-wash-sound-therapy-6/
ATTACH;FMTTYPE=image/jpeg:https://nsaikido.com/app/uploads/2024/12/Sonic-Sanctuary-1.jpg
ORGANIZER;CN="Simon 'Jay' Cervania":MAILTO:harmonicwaveshealing@gmail.com
END:VEVENT
BEGIN:VEVENT
DTSTART;TZID=America/Chicago:20250919T180000
DTEND;TZID=America/Chicago:20250921T110000
DTSTAMP:20260419T170906
CREATED:20250908T205834Z
LAST-MODIFIED:20250910T151112Z
UID:838-1758304800-1758452400@nsaikido.com
SUMMARY:Autumn Seminar | Jon Whatley Sensei\, 5th Dan
DESCRIPTION:Please join us for an Autumn Seminar featuring Jon Whatley Sensei\, 5th Dan\, Dojocho of Center for Aikido Study – Joshinkan Dojo. \n\n\n\nFriday: 6 – 8 PMSaturday: 11 AM – 1 PM\, 3:30 PM – 5:30 PM\, 6 PM Pizza PartySunday: 11 AM – 1 PM \n\n\n\nThis is a Free Seminar! \n\n\n\nNo Donations Are Required; None Are Refused
URL:https://nsaikido.com/event/autumn-seminar-jon-whatley-sensei-5th-dan/
END:VEVENT
BEGIN:VEVENT
DTSTART;TZID=America/Chicago:20251004T110000
DTEND;TZID=America/Chicago:20251005T110000
DTSTAMP:20260419T170906
CREATED:20250908T202705Z
LAST-MODIFIED:20250910T151137Z
UID:835-1759575600-1759662000@nsaikido.com
SUMMARY:Aloha Seminar | Wesley Shimokawa Sensei\, 7th Dan
DESCRIPTION:Please join us for an Aloha Seminar featuring Wes Shimokawa Sensei\, 7th Dan\, Chief Instructor of Lihue Aiki-Kai. \n\n\n\nSaturday: 11 AM – 1 PM\, 3:30 – 5:30 PM\, 6 PM Pizza PartySunday: 11 AM – 1 PM \n\n\n\nThis is a Free Seminar! \n\n\n\nNo Donations Are Required; None Are Refused
URL:https://nsaikido.com/event/aloha-seminar-wesley-shimokawa-sensei-7th-dan/
END:VEVENT
BEGIN:VEVENT
DTSTART;TZID=America/Chicago:20251010T190000
DTEND;TZID=America/Chicago:20251010T220000
DTSTAMP:20260419T170906
CREATED:20250910T150536Z
LAST-MODIFIED:20250910T150538Z
UID:843-1760122800-1760133600@nsaikido.com
SUMMARY:Sonic Sanctuary: Gong Wash Sound Therapy
DESCRIPTION:
URL:https://nsaikido.com/event/sonic-sanctuary-gong-wash-sound-therapy-7/
END:VEVENT
BEGIN:VEVENT
DTSTART;TZID=America/Chicago:20251115T100000
DTEND;TZID=America/Chicago:20251115T120000
DTSTAMP:20260419T170906
CREATED:20251016T141525Z
LAST-MODIFIED:20251016T141710Z
UID:852-1763200800-1763208000@nsaikido.com
SUMMARY:Guest Instructor | Carlos Frick Sensei
DESCRIPTION:Please join us as we welcome Carlos Frick Sensei as our guest instructor. \n\n\n\nSaturday\, November 15th10:00 am – 12:00 pm \n\n\n\nNorth Shore Aikido3390 Commercial Ave.Northbrook\, IL 60062(847) 361-9714nsaikido.com \n\n\n\nNo donation is required\, and none are refused. \n\n\n\nCarlos Frick Sensei began practicing Aikido in 2005 at Nippon Khan Wisconsin\, under Charles Deiro Sensei\, direct student of Gaku Homma Sensei\, founder of Nippon Khan and Uchideshi of O’Sensei in the Iwama Dojo. After 4 years with Nippon Khan\, he moved to Kenosha and joined Kenosha Aikikai under Rock Lazo Sensei\, a direct student of Akira Tohei Sensei\, founder of the Midwest Aikido Center\, where he still practices today.Mr. Frick holds the rank of Sandan and is a Certified Assistant Instructor (Fukushidoin) issued by the United States Aikido Federation. He is also the main weapons instructor at Kenosha Aikikai and Iaido Chief Instructor under the Kyokaze Iaido Federation\, founded by Kanai Sensei. Carlos has been mainly influenced by Saito Morihiro\, Hitohira Sensei\, Gaku Homma Sensei\, Akira Tohei Sensei\, Yamada Sensei\, Chiba Sensei\, and Kanai Sensei.
URL:https://nsaikido.com/event/guest-instructor-carlos-frick-sensei/
END:VEVENT
BEGIN:VEVENT
DTSTART;TZID=America/Chicago:20251219T190000
DTEND;TZID=America/Chicago:20251219T220000
DTSTAMP:20260419T170906
CREATED:20250910T150629Z
LAST-MODIFIED:20250910T150631Z
UID:845-1766170800-1766181600@nsaikido.com
SUMMARY:Sonic Sanctuary: Gong Wash Sound Therapy
DESCRIPTION:
URL:https://nsaikido.com/event/sonic-sanctuary-gong-wash-sound-therapy-8/
END:VEVENT
BEGIN:VEVENT
DTSTART;TZID=America/Chicago:20260116T190000
DTEND;TZID=America/Chicago:20260116T220000
DTSTAMP:20260419T170906
CREATED:20250910T150712Z
LAST-MODIFIED:20250910T150713Z
UID:847-1768590000-1768600800@nsaikido.com
SUMMARY:Sonic Sanctuary: Gong Wash Sound Therapy
DESCRIPTION:
URL:https://nsaikido.com/event/sonic-sanctuary-gong-wash-sound-therapy-9/
END:VEVENT
END:VCALENDAR