BEGIN:VCALENDAR
VERSION:2.0
PRODID:-//North Shore Aikido - ECPv6.8.3//NONSGML v1.0//EN
CALSCALE:GREGORIAN
METHOD:PUBLISH
X-WR-CALNAME:North Shore Aikido
X-ORIGINAL-URL:https://nsaikido.com
X-WR-CALDESC:Events for North Shore Aikido
REFRESH-INTERVAL;VALUE=DURATION:PT1H
X-Robots-Tag:noindex
X-PUBLISHED-TTL:PT1H
BEGIN:VTIMEZONE
TZID:America/Chicago
BEGIN:DAYLIGHT
TZOFFSETFROM:-0600
TZOFFSETTO:-0500
TZNAME:CDT
DTSTART:20250309T080000
END:DAYLIGHT
BEGIN:STANDARD
TZOFFSETFROM:-0500
TZOFFSETTO:-0600
TZNAME:CST
DTSTART:20251102T070000
END:STANDARD
END:VTIMEZONE
BEGIN:VEVENT
DTSTART;TZID=America/Chicago:20250919T180000
DTEND;TZID=America/Chicago:20250921T110000
DTSTAMP:20260419T093530
CREATED:20250908T205834Z
LAST-MODIFIED:20250910T151112Z
UID:838-1758304800-1758452400@nsaikido.com
SUMMARY:Autumn Seminar | Jon Whatley Sensei\, 5th Dan
DESCRIPTION:Please join us for an Autumn Seminar featuring Jon Whatley Sensei\, 5th Dan\, Dojocho of Center for Aikido Study – Joshinkan Dojo. \n\n\n\nFriday: 6 – 8 PMSaturday: 11 AM – 1 PM\, 3:30 PM – 5:30 PM\, 6 PM Pizza PartySunday: 11 AM – 1 PM \n\n\n\nThis is a Free Seminar! \n\n\n\nNo Donations Are Required; None Are Refused
URL:https://nsaikido.com/event/autumn-seminar-jon-whatley-sensei-5th-dan/
END:VEVENT
END:VCALENDAR