BEGIN:VCALENDAR
VERSION:2.0
PRODID:-//North Shore Aikido - ECPv6.8.3//NONSGML v1.0//EN
CALSCALE:GREGORIAN
METHOD:PUBLISH
X-WR-CALNAME:North Shore Aikido
X-ORIGINAL-URL:https://nsaikido.com
X-WR-CALDESC:Events for North Shore Aikido
REFRESH-INTERVAL;VALUE=DURATION:PT1H
X-Robots-Tag:noindex
X-PUBLISHED-TTL:PT1H
BEGIN:VTIMEZONE
TZID:America/Chicago
BEGIN:DAYLIGHT
TZOFFSETFROM:-0600
TZOFFSETTO:-0500
TZNAME:CDT
DTSTART:20250309T080000
END:DAYLIGHT
BEGIN:STANDARD
TZOFFSETFROM:-0500
TZOFFSETTO:-0600
TZNAME:CST
DTSTART:20251102T070000
END:STANDARD
END:VTIMEZONE
BEGIN:VEVENT
DTSTART;TZID=America/Chicago:20250516T180000
DTEND;TZID=America/Chicago:20250518T130000
DTSTAMP:20260419T154029
CREATED:20250408T143523Z
LAST-MODIFIED:20250408T143832Z
UID:818-1747418400-1747573200@nsaikido.com
SUMMARY:Spring Seminar | Terry Leonard Sensei\, 6th Dan
DESCRIPTION:Please join us for a Spring Seminar featuring Terry Leonard Sensei\, 6th Dan\, founder of Aikido of Harvard. \n\n\n\nSeminar Schedule:Friday: 6 PM – 8 PMSaturday: 11 AM – 1 PM\, 3:30 PM – 5:30 PM6 PM After Practice PartySunday: 11 AM – 1 PM \n\n\n\nEntire Seminar: $125Friday: $75Saturday: $100Sunday: $75 \n\n\n\nCash or CheckZelle: torashinkan@gmail.com (Joshua Weiser)Venmo: https://venmo.com/u/North-Shore-Aikido
URL:https://nsaikido.com/event/spring-seminar-2025-terry-leonard-sensei-6th-dan/
END:VEVENT
END:VCALENDAR