BEGIN:VCALENDAR
VERSION:2.0
PRODID:-//North Shore Aikido - ECPv6.8.3//NONSGML v1.0//EN
CALSCALE:GREGORIAN
METHOD:PUBLISH
X-WR-CALNAME:North Shore Aikido
X-ORIGINAL-URL:https://nsaikido.com
X-WR-CALDESC:Events for North Shore Aikido
REFRESH-INTERVAL;VALUE=DURATION:PT1H
X-Robots-Tag:noindex
X-PUBLISHED-TTL:PT1H
BEGIN:VTIMEZONE
TZID:America/Chicago
BEGIN:DAYLIGHT
TZOFFSETFROM:-0600
TZOFFSETTO:-0500
TZNAME:CDT
DTSTART:20250309T080000
END:DAYLIGHT
BEGIN:STANDARD
TZOFFSETFROM:-0500
TZOFFSETTO:-0600
TZNAME:CST
DTSTART:20251102T070000
END:STANDARD
END:VTIMEZONE
BEGIN:VEVENT
DTSTART;TZID=America/Chicago:20250315T130000
DTEND;TZID=America/Chicago:20250315T180000
DTSTAMP:20260419T181501
CREATED:20250105T204159Z
LAST-MODIFIED:20250105T211758Z
UID:496-1742043600-1742061600@nsaikido.com
SUMMARY:Reiki Level I Shoden Class
DESCRIPTION:Guest Instructor | Carlos Frick Sensei\n\n\n\n\nA 10-hour Reiki certification class in the Japanese form of Reiki the “Usui Reiki Ryoho”. \n\n\n\n2 Saturdays: from 1 PM – 6 PM – in-person\, March 8 + 15. \n\n\n\nReiki is a spiritual healing method that promotes balance\, wellbeing\, and personal growth. Developed in Japan in the 1920s by Usui Mikao\, Reiki is now practiced around the world in many different forms. Its original name “shinshin kaizen Usui Reiki Ryoho” translates to the “Usui Healing Method for improving body and mind”. \n\n\n\nThis class is a 2-part/week training in the traditional Japanese practice of Reiki. Attendance to the entire program is required to certify. \n\n\n\nIn this class\, you will learn the practice of Reiki for yourself and others. This training has a strong focus on self-care which will enable you to create the foundation of a solid personal practice that supports you in your life. It is suitable for beginners as well as more advanced practitioners interested in the traditional Japanese way of Reiki. All are welcome. \n\n\n\nThere is no prerequisite. Minimum of two students; if the minimum is not met students will be transferred to the next month’s class. \n\n\n\nBENEFITS OF THIS CLASS \n\n\n\n\nLearn to relax\, meditate\, and cultivate balance\, wellbeing\, and compassion in life.\n\n\n\nLive with greater ease\, clarity\, joy\, and equanimity.\n\n\n\nEmpower yourself and others.\n\n\n\nStart a self-care practice and as well as care for others.\n\n\n\nLearn to respond rather than react to stress\, anger\, and worry.\n\n\n\nConnect deeply with the essence of who we are as human beings and what it means to live fully.\n\n\n\n\nWHAT YOU WILL LEARN \n\n\n\n\nReiki history\, its cultural origins\, and evolution.\n\n\n\nWhat is Reiki and how to practice.\n\n\n\nThe 5 foundational elements of the system of Reiki.\n\n\n\nHow the Japanese energetic system works.\n\n\n\nBreathing meditations to clear your energy and strengthen your mind-body connection.\n\n\n\nHow to perform hands-on healing for ourselves and others.\n\n\n\nThe 5 Reiki precepts as life-guiding principles to live life in balance and harmony.\n\n\n\nReceive 4 Reiju or spiritual blessings.\n\n\n\n\nWHAT THIS TRAINING OFFERS \n\n\n\n\n10-hour training in the traditional Japanese art of Reiki\, the “Usui Reiki Ryoho”.\n\n\n\nTools and practices that will remain available to you throughout your lifetime.\n\n\n\nLectures\, discussions\, demonstrations\, and practice time.\n\n\n\nManual and certificate of completion.\n\n\n\nOfficial training that follows the International House of Reiki standards of practice.\n\n\n\nClass led by an experienced Reiki teacher\, trained in the US and Japan\, and direct student of world-renowned teacher Frans Stiene.\n\n\n\nOngoing teacher support and access to the International House of Reiki/Ki Campus/Community.\n\n\n\n\nTO MAKE THE BEST OF YOUR TRAINING: \n\n\n\n\nCommitment to practice is key.\n\n\n\nQuestions are welcome and appreciated.\n\n\n\nAttendance to the 2 parts (10 hours) is required to receive a certificate of completion.\n\n\n\nAdditional reading: The Japanese Art of Reiki” by Frans Stiene and Bronwen Logan (Stiene).\n\n\n\nMakeups may be scheduled at the discretion of the teacher.\n\n\n\nThank you for being on time.\n\n\n\n\nStudents feedback: \n\n\n\n“Veronique Frede is the best kind of instructor. She is equally passionate and knowledgeable about the practice of Reiki; she makes you excited to learn more! She is patient and kind\, a gentle soul\, and her teachings are clear and easy to absorb. She’s very hands on and willing to work with you to make sure you are confident with the material. She also makes herself available for consultation and gives her time generously. She’s helped me tremendously and I highly recommend her to anyone even vaguely interested in the art of Japanese Reiki/healing touch.” – Kim \n\n\n\n“This class was a blessing. Veronique is knowledgeable\, insightful\, and has a very pleasant energy. The four-week course was well rounded and allowed me to fully appreciate the information between classes. The student portal has also been a valuable resource in my continued practice. Although there will always be much more to learn I feel this class was truly a pivotal point in my spiritual journey. I look forward to my Level 2 training.” – Alexandra \n\n\n\n“This class was exactly what I needed\, and something I was looking forward to every week. Veronique’s style of teaching and sharing is loving\, knowledgeable\, and accessible. Reiki taught me about “holding space” and the importance of moment-by-moment presence and awareness. By the end of Level I I felt confident in practicing on myself\, friends and family. I highly recommend it. Moreover\, the environment at the Japanese Institute is calm\, clean\, and serene\, perfect for learning.” – Laura B. \n\n\n\nABOUT THE TEACHER \n\n\n\nVeronique Frede is a certified Reiki Teacher/Practitioner in the Japanese lineage “Usui Reiki Ryoho”. Originally from France\, Ms. Frede has been studying and practicing Reiki in various parts of the world and settings since 2008. Aside from her private practice\, Ms. Frede has worked and volunteered in a hospital\, a cancer wellness center\, yoga studios\, a senior living community among other places. Those experiences have led her to gain a more practical understanding of the mind-body connection in relationship with life in general\, and wellness in particular. Ms. Frede became a Reiki Teacher at the Japanese Culture Center in Chicago in 2019 offering her the opportunity to deepen her understanding of the Japanese arts and ways including Japanese calligraphy and Zen. Ms. Frede has been exploring both traditional and more contemporary approaches to the practice of Reiki. She has pursued these varied interests in the US as well as in Europe\, and Japan where Reiki originates from. Ms. Frede is a student of Frans Stiene\, founder of the International House of Reiki\, and a graduate from the Mindfulness Meditation Teacher Certification Program (MMTCP) from the Awareness Training Institute and the Greater Good Science Center at University of California Berkeley with Tara Brach and Jack Kornfield. For more information about Ms. Frede\, please visit her website www.moonstonesanctuary.com
URL:https://nsaikido.com/event/reiki-level-i-shoden-class-4/
ATTACH;FMTTYPE=image/jpeg:https://nsaikido.com/app/uploads/2025/01/Reiki.jpg
ORGANIZER;CN="Japanese Culture Center":MAILTO:info@japaneseculturecenter.com
END:VEVENT
END:VCALENDAR