BEGIN:VCALENDAR
VERSION:2.0
PRODID:-//North Shore Aikido - ECPv6.8.3//NONSGML v1.0//EN
CALSCALE:GREGORIAN
METHOD:PUBLISH
X-ORIGINAL-URL:https://nsaikido.com
X-WR-CALDESC:Events for North Shore Aikido
REFRESH-INTERVAL;VALUE=DURATION:PT1H
X-Robots-Tag:noindex
X-PUBLISHED-TTL:PT1H
BEGIN:VTIMEZONE
TZID:America/Chicago
BEGIN:DAYLIGHT
TZOFFSETFROM:-0600
TZOFFSETTO:-0500
TZNAME:CDT
DTSTART:20250309T080000
END:DAYLIGHT
BEGIN:STANDARD
TZOFFSETFROM:-0500
TZOFFSETTO:-0600
TZNAME:CST
DTSTART:20251102T070000
END:STANDARD
END:VTIMEZONE
BEGIN:VEVENT
DTSTART;TZID=America/Chicago:20250305T193000
DTEND;TZID=America/Chicago:20250305T203000
DTSTAMP:20260419T181758
CREATED:20250210T171243Z
LAST-MODIFIED:20250212T220216Z
UID:720-1741203000-1741206600@nsaikido.com
SUMMARY:Introduction to Defending Against Knife Threats – FREE!
DESCRIPTION:Guest Instructor | Carlos Frick Sensei\n\n\n\n\nTo Register to Attend this FREE seminar – Contact Peter via Email at: fhattys@rocketmail.com OR Call/Text: 847-736-7358
URL:https://nsaikido.com/event/introduction-to-defending-against-knife-threats-free/
ATTACH;FMTTYPE=image/jpeg:https://nsaikido.com/app/uploads/2025/02/Knife-Defense-Intro-March-2025-NSA.jpg
END:VEVENT
END:VCALENDAR