BEGIN:VCALENDAR
VERSION:2.0
PRODID:-//North Shore Aikido - ECPv6.8.3//NONSGML v1.0//EN
CALSCALE:GREGORIAN
METHOD:PUBLISH
X-ORIGINAL-URL:https://nsaikido.com
X-WR-CALDESC:Events for North Shore Aikido
REFRESH-INTERVAL;VALUE=DURATION:PT1H
X-Robots-Tag:noindex
X-PUBLISHED-TTL:PT1H
BEGIN:VTIMEZONE
TZID:America/Chicago
BEGIN:DAYLIGHT
TZOFFSETFROM:-0600
TZOFFSETTO:-0500
TZNAME:CDT
DTSTART:20250309T080000
END:DAYLIGHT
BEGIN:STANDARD
TZOFFSETFROM:-0500
TZOFFSETTO:-0600
TZNAME:CST
DTSTART:20251102T070000
END:STANDARD
END:VTIMEZONE
BEGIN:VEVENT
DTSTART;TZID=America/Chicago:20250206T123000
DTEND;TZID=America/Chicago:20250206T143000
DTSTAMP:20260419T192418
CREATED:20250105T205128Z
LAST-MODIFIED:20250105T212310Z
UID:504-1738845000-1738852200@nsaikido.com
SUMMARY:Ohara Ryu Ikebana Workshop
DESCRIPTION:Guest Instructor | Carlos Frick Sensei\n\n\n\n\nJoin us for an Ohara Ryu Ikebana Workshop! No experience necessary. All levels welcome. \n\n\n\nSign up for an immersive experience for Ikebana enthusiasts of all levels. Whether you’re a beginner eager to discover the art of Japanese flower arrangement or an experienced practitioner seeking to refine your skills\, this workshop offers a unique opportunity to delve into the harmonious world of Ikebana. \n\n\n\n-Kenzan\, container and flowers will be provided and may be taken home. \n\n\n\n-Scissors provided. \n\n\n\n-Class is open to all levels and no experience is necessary. \n\n\n\nThere is a minimum requirement of 4 Students by 1 week prior to the event. \n\n\n\nYuko Inoue Darcy \n\n\n\nSince 2005\, Ms. Inoue-Darcy has been teaching Ikebana throughout Chicagoland. She is a member of and an instructor in the Ohara School of Ikebana\, both in Japan and in the US. Originally from Japan\, Ms. Inoue-Darcy practiced Ikebana\, Tea Ceremony and Incense Ceremony from a young age. Ms. Inoue-Darcy moved to the U.S. where she received a Master’s degree in Comparative Literature from Washington University in St. Louis\, where she was also an instructor of the Japanese Language. In 1994\, she accepted a teaching position at West Side High School\, a public high school in Gary\, Indiana\, striving to inspire and nurture students with Japanese art\, culture and language. While teaching in Gary\, she was voted to be listed for Who’s Who Among America’s Teachers. Ms. Inoue-Darcy has traveled to more than 20 countries\, exploring her curiosity about each country’s indigenous plants\, flowers and arrangement styles. \n\n\n\nCurrently\, Ms. Inoue-Darcy is an active Ikebana lecturer\, exhibitor\, and demonstrator who travels nationally and internationally. She teaches regularly at the Japanese American Service Committee\, the Evanston Art Center\, the Japanese Culture Center\, as well as at her own studio in Lincoln Park. Her principal teachers are the late Hougyoku Hirai\, the late Senyo Kato\, the late Kazuko Ernst\, the late Houhatsu Takeuchi\, and Kousui Kawakami. Ms. Inoue-Darcy is the President of the Ohara School of Ikebana Chicago Chapter as well as the President of the Ikebana International Chicago Chapter. Ms. Inoue-Darcy holds the First Term Master’s degree\, the highest instructor’s certificate.
URL:https://nsaikido.com/event/ohara-ryu-ikebana-workshop/
ATTACH;FMTTYPE=image/jpeg:https://nsaikido.com/app/uploads/2025/01/ikebana-2.jpg
ORGANIZER;CN="Japanese Culture Center":MAILTO:info@japaneseculturecenter.com
END:VEVENT
END:VCALENDAR